BEGIN:VCALENDAR
VERSION:2.0
PRODID:-//La cave à pâtisseries - ECPv5.16.4//NONSGML v1.0//EN
CALSCALE:GREGORIAN
METHOD:PUBLISH
X-ORIGINAL-URL:https://lacaveapatisseries.com
X-WR-CALDESC:Events for La cave à pâtisseries
REFRESH-INTERVAL;VALUE=DURATION:PT1H
X-Robots-Tag:noindex
X-PUBLISHED-TTL:PT1H
BEGIN:VTIMEZONE
TZID:Europe/Paris
BEGIN:DAYLIGHT
TZOFFSETFROM:+0100
TZOFFSETTO:+0200
TZNAME:CEST
DTSTART:20260329T010000
END:DAYLIGHT
BEGIN:STANDARD
TZOFFSETFROM:+0200
TZOFFSETTO:+0100
TZNAME:CET
DTSTART:20261025T010000
END:STANDARD
END:VTIMEZONE
BEGIN:VEVENT
DTSTART;TZID=Europe/Paris:20260603T140000
DTEND;TZID=Europe/Paris:20260603T153000
DTSTAMP:20260423T153012
CREATED:20241015T124030Z
LAST-MODIFIED:20260318T135629Z
UID:2842-1780495200-1780500600@lacaveapatisseries.com
SUMMARY:Atelier enfant - Les biscuits m&m's - 3 juin 2026
DESCRIPTION:Biscuits m&m’s\n\n\n\nPour un goûter haut en couleur\, une recette de douceur que tous le monde appréciera : des sablés nappés de chocolat au lait et agrémentés de M&M’S \n\n\n\n\n\n\n\n\n\n\n    	\n        Je m'inscrisJe m'inscris\n\n	Soyez le premier à vous inscrire 	\n\n	\n\n		\n		\n		\n		\n			\n			\n	\n\n    	Prénom (ou prénom du représentant légal si atelier pour enfant)*\n	    \n				\n						\n\n\n\n    	Nom (ou nom du représentant légal si atelier pour enfant)*\n	    \n				\n						\n\n\n\n    	E-mail*\n	    \n				\n						\n\n\n\n    	Téléphone*\n	    \n				\n						\n\n\n\n    	Nom\, prénom et âge de l`enfant\n	    \n				\n						\n\n\n\n    	Avez-vous une carte cadeau ?\n	    \n				\n						\n\n\n\n    	Pour vérifier que vous n'êtes pas un robot\, merci de calculer cette addition : 5 + 2*\n	    \n				\n						\n\n\n		\n\n		\n			Comments\n			\n				\n				Si vous êtes un humain\, ne remplissez pas ce champ \n			\n		\n\n		\n			\n		\n\n	\n\n	\n			\n\n\n		\n            Vous souhaitez annuler votre inscription ?\n            Vous souhaitez annuler votre inscription ? \n\n            \n                Utilisez cet outil pour gérer votre annulation. \n                \n\n                    \n                        \n                            Entrez votre adresse email utilisée pour votre inscription*\n                            \n                                \n                            \n                        \n						                        \n						                            \n						                    \n                \n            \n		\n			\n\n\n\n\n\nCliquez sur le titre et réservez votre place en ligne. Le paiement s’effectue directement à l’atelier\, en début de séance\, en espèce ou par carte bancaire
URL:https://lacaveapatisseries.com/l-atelier-de-la-cave-a-patisseries/le-calendrier-de-lavent-23-novembre-2022/
LOCATION:La cave à pâtisseries\, 7 place Benoît Raclet\, Romanèche Thorins\, 71570\, France
CATEGORIES:Adolescent,Enfant,Enfant et parents,Tout Niveau
ATTACH;FMTTYPE=image/jpeg:https://lacaveapatisseries.com/wp-content/uploads/2022/09/biscuits-aux-mms.jpg
ORGANIZER;CN="La%20cave%20%C3%A0%20p%C3%A2tisseries":MAILTO:contact@lacaveapatisseries.com
END:VEVENT
BEGIN:VEVENT
DTSTART;TZID=Europe/Paris:20260620T140000
DTEND;TZID=Europe/Paris:20260620T153000
DTSTAMP:20260423T153012
CREATED:20260318T141222Z
LAST-MODIFIED:20260318T141223Z
UID:2795-1781964000-1781969400@lacaveapatisseries.com
SUMMARY:Atelier Enfants - Les choco crabes - 20 juin 2026
DESCRIPTION:Choco crabes\n\n\n\nViens créer de drôles de petits crabes en chocolat !😋🌊 \n\n\n\n\n\n\n\n\n\n\n    	\n        Je m'inscrisJe m'inscris\n\n	Soyez le premier à vous inscrire 	\n\n	\n\n		\n		\n		\n		\n			\n			\n	\n\n    	Prénom (ou prénom du représentant légal si atelier pour enfant)*\n	    \n				\n						\n\n\n\n    	Nom (ou nom du représentant légal si atelier pour enfant)*\n	    \n				\n						\n\n\n\n    	E-mail*\n	    \n				\n						\n\n\n\n    	Téléphone*\n	    \n				\n						\n\n\n\n    	Nom\, prénom et âge de l`enfant\n	    \n				\n						\n\n\n\n    	Avez-vous une carte cadeau ?\n	    \n				\n						\n\n\n\n    	Pour vérifier que vous n'êtes pas un robot\, merci de calculer cette addition : 4 + 4*\n	    \n				\n						\n\n\n		\n\n		\n			Comments\n			\n				\n				Si vous êtes un humain\, ne remplissez pas ce champ \n			\n		\n\n		\n			\n		\n\n	\n\n	\n			\n\n\n		\n            Vous souhaitez annuler votre inscription ?\n            Vous souhaitez annuler votre inscription ? \n\n            \n                Utilisez cet outil pour gérer votre annulation. \n                \n\n                    \n                        \n                            Entrez votre adresse email utilisée pour votre inscription*\n                            \n                                \n                            \n                        \n						                        \n						                            \n						                    \n                \n            \n		\n			\n\n\n\n\n\nCliquez sur le titre et réservez votre place en ligne. Le paiement s’effectue directement à l’atelier\, en début de séance\, en espèce ou par carte bancaire
URL:https://lacaveapatisseries.com/l-atelier-de-la-cave-a-patisseries/les-choco/
LOCATION:La cave à pâtisseries\, 7 place Benoît Raclet\, Romanèche Thorins\, 71570\, France
CATEGORIES:Enfant,Tout Niveau
ATTACH;FMTTYPE=image/jpeg:https://lacaveapatisseries.com/wp-content/uploads/2026/01/choco-crabe.jpg
ORGANIZER;CN="La%20cave%20%C3%A0%20p%C3%A2tisseries":MAILTO:contact@lacaveapatisseries.com
END:VEVENT
END:VCALENDAR